BEGIN:VCALENDAR
VERSION:2.0
PRODID:-//Bibliotheken Schaffhausen - ECPv6.15.20//NONSGML v1.0//EN
CALSCALE:GREGORIAN
METHOD:PUBLISH
X-WR-CALNAME:Bibliotheken Schaffhausen
X-ORIGINAL-URL:https://bibliotheken-schaffhausen.ch/de/
X-WR-CALDESC:Veranstaltungen für Bibliotheken Schaffhausen
REFRESH-INTERVAL;VALUE=DURATION:PT1H
X-Robots-Tag:noindex
X-PUBLISHED-TTL:PT1H
BEGIN:VTIMEZONE
TZID:Europe/Berlin
BEGIN:DAYLIGHT
TZOFFSETFROM:+0100
TZOFFSETTO:+0200
TZNAME:CEST
DTSTART:20250330T010000
END:DAYLIGHT
BEGIN:STANDARD
TZOFFSETFROM:+0200
TZOFFSETTO:+0100
TZNAME:CET
DTSTART:20251026T010000
END:STANDARD
BEGIN:DAYLIGHT
TZOFFSETFROM:+0100
TZOFFSETTO:+0200
TZNAME:CEST
DTSTART:20260329T010000
END:DAYLIGHT
BEGIN:STANDARD
TZOFFSETFROM:+0200
TZOFFSETTO:+0100
TZNAME:CET
DTSTART:20261025T010000
END:STANDARD
BEGIN:DAYLIGHT
TZOFFSETFROM:+0100
TZOFFSETTO:+0200
TZNAME:CEST
DTSTART:20270328T010000
END:DAYLIGHT
BEGIN:STANDARD
TZOFFSETFROM:+0200
TZOFFSETTO:+0100
TZNAME:CET
DTSTART:20271031T010000
END:STANDARD
END:VTIMEZONE
BEGIN:VEVENT
DTSTART;TZID=Europe/Berlin:20260527T140000
DTEND;TZID=Europe/Berlin:20260527T160000
DTSTAMP:20260424T160000
CREATED:20260424T054601Z
LAST-MODIFIED:20260424T055417Z
UID:10002408-1779890400-1779897600@bibliotheken-schaffhausen.ch
SUMMARY:Schweizer Vorlesetag
DESCRIPTION:Lust auf ein kleines Abenteuer auf dem Bauernhof? \nIm Rahmen des Schweizer Vorlesetags am Mittwoch\, 27. Mai\, erwartet Kinder auf dem Altra Bio-Bauernhof in Neuhausen ein ganz besonderes Erlebnis. Zwischen Tieren und von Stallluft umgeben\, nehmen Désirée Senn und Liane Brand die jungen Gäste mit auf eine Reise voller lustiger Geschichten. \nFür Kinder ab 6 Jahren erzählt Désirée Senn um 14.00 Uhr die Geschichte vom Huhn Lila und dem Schwein Albin. \nIm Anschluss nimmt Liane Brand Kinder ab 3 Jahren mit auf den Bauernhof von Lieselotte Postkuh. \nDie Veranstaltung ist kostenlos. Der Platz ist jedoch beschränkt. Wir bitten Sie deshalb\, sich anzumelden. Das Anmeldeformular wird in Kürze aufgeschaltet. \n  \nBildquellen: Alexander Steffensmeier\, FISCHER Sauerländer Oliver Streich und Els Cools\, Nord-Süd Verlag
URL:https://bibliotheken-schaffhausen.ch/de/event/schweizer-vorlesetag-3/
LOCATION:Altra Bio-Bauernhof\, Löwenstein 35\, 8212 Neuhausen am Rheinfall
CATEGORIES:Eltern & Kinder,Leseförderung,Literatur
ATTACH;FMTTYPE=image/jpeg:https://bibliotheken-schaffhausen.ch/wp-content/uploads/2026/04/Veranstatlung_APR.jpg
END:VEVENT
END:VCALENDAR